BEGIN:VCALENDAR
VERSION:2.0
PRODID:-//ChamberMaster//Event Calendar 2.0//EN
METHOD:PUBLISH
X-PUBLISHED-TTL:P3D
REFRESH-INTERVAL:P3D
CALSCALE:GREGORIAN
BEGIN:VEVENT
DTSTART:20191030T153000Z
DTEND:20191030T170000Z
X-MICROSOFT-CDO-ALLDAYEVENT:FALSE
SUMMARY:Lunch & Learn: Doing Business in Richland County
DESCRIPTION:Join the Richland County Office of Small Business Opportunity for a Lunch & Learn here at the Chamber on October 30th from 11:30am-1pm.  This event will be focused around explaining the purpose of the office\, how it advocates for small businesses\, its certification process\, as well as trainings and workshops for small businesses. \n\n\n\nFREE and lunch will be provided but please register in advance to reserve a box lunch.
X-ALT-DESC;FMTTYPE=text/html:Join the Richland County Office of Small Business Opportunity for a Lunch &amp\; Learn here at the Chamber on October 30th from 11:30am-1pm. &nbsp\;This event will be focused around explaining the purpose of the office\, how it advocates for small businesses\, its certification process\, as well as trainings and workshops for small businesses.&nbsp\;<br />\n<br />\nFREE and lunch will be provided but please register in advance to reserve a box lunch.<br />\n<br />\n&nbsp\;
LOCATION:Greater Irmo Chamber 1235 Columbia AVe. Irmo\, SC 29063
UID:e.1333.3377
SEQUENCE:3
DTSTAMP:20260422T173737Z
URL:https://business.greaterirmochamber.com/events/details/lunch-learn-doing-business-in-richland-county-3377
END:VEVENT

END:VCALENDAR
