BEGIN:VCALENDAR
VERSION:2.0
PRODID:-//ChamberMaster//Event Calendar 2.0//EN
METHOD:PUBLISH
X-PUBLISHED-TTL:P3D
REFRESH-INTERVAL:P3D
CALSCALE:GREGORIAN
BEGIN:VEVENT
DTSTART:20190619T153000Z
DTEND:20190619T170000Z
X-MICROSOFT-CDO-ALLDAYEVENT:FALSE
SUMMARY:Lunch & Learn: Emotions of Investing & Behavioral Finance
DESCRIPTION:Join David Wallace with Edward Jones Investments and Joe Byron with Fidelity for a discussion about the emotions involved in investing and behavioral finance.\n\n\n\nSpace is limited and advanced registration is required and appreciated.  A light lunch will be served!
X-ALT-DESC;FMTTYPE=text/html:Join David Wallace with Edward Jones Investments and Joe Byron with Fidelity for a discussion about the emotions involved in investing and behavioral finance.<br />\n<br />\nSpace is limited and advanced registration is required and appreciated. &nbsp\;A light lunch will be served!
LOCATION:Greater Irmo Chamber 1235 Columbia Ave. Irmo\, SC 29063
UID:e.1333.3337
SEQUENCE:3
DTSTAMP:20260422T231438Z
URL:https://business.greaterirmochamber.com/events/details/lunch-learn-emotions-of-investing-behavioral-finance-3337
END:VEVENT

END:VCALENDAR
