BEGIN:VCALENDAR
VERSION:2.0
PRODID:-//ChamberMaster//Event Calendar 2.0//EN
METHOD:PUBLISH
X-PUBLISHED-TTL:P3D
REFRESH-INTERVAL:P3D
CALSCALE:GREGORIAN
BEGIN:VEVENT
DTSTART:20180131T163000Z
DTEND:20180131T180000Z
X-MICROSOFT-CDO-ALLDAYEVENT:FALSE
SUMMARY:Lunch & Learn: Fitness & Nutrition 101
DESCRIPTION:You're invited to our first Lunch & Learn of the new year!  Lisa Minges\, General Manager of Health Directions at Lexington Medical Center will be discussing fitness and nutrition basics as well as the benefits of moving more and eating better.  A healthy lunch will be available for $10 but you must register in advance
X-ALT-DESC;FMTTYPE=text/html:You&#39\;re invited to our first Lunch &amp\; Learn of the new year! &nbsp\;Lisa Minges\, General Manager of Health Directions at Lexington Medical Center will be discussing fitness and nutrition basics as well as the benefits of moving more and eating better. &nbsp\;A healthy lunch will be available for $10 but you must register in advance
LOCATION:Greater Irmo Chamber of Commerce 1235 Columbia Ave. Irmo\, SC 29063
UID:e.1333.2937
SEQUENCE:3
DTSTAMP:20260424T020541Z
URL:https://business.greaterirmochamber.com/events/details/lunch-learn-fitness-nutrition-101-2937
END:VEVENT

END:VCALENDAR
