BEGIN:VCALENDAR
VERSION:2.0
PRODID:-//ChamberMaster//Event Calendar 2.0//EN
METHOD:PUBLISH
X-PUBLISHED-TTL:P3D
REFRESH-INTERVAL:P3D
CALSCALE:GREGORIAN
BEGIN:VEVENT
DTSTART:20190904T153000Z
DTEND:20190904T170000Z
X-MICROSOFT-CDO-ALLDAYEVENT:FALSE
SUMMARY:Lunch & Learn: Healthy Skin/Nutriance Organic Skin Care
DESCRIPTION:Come enjoy a delicious Organic Lunch\, while you learn about the new Nutriance Organic Skin Care System!\n\n-How to build Healthy Skin from the inside out!\n\n-This Skin Care System is for men\, women & teens!!
X-ALT-DESC;FMTTYPE=text/html:Come enjoy a delicious Organic Lunch\, while you learn about the new Nutriance Organic Skin Care System!<br />\n-How to build Healthy Skin from the inside out!<br />\n-This Skin Care System is for men\, women &amp\; teens!!
LOCATION:Irmo Chamber 1235 Columbia Avenue Irmo\, SC 29063
UID:e.1333.3356
SEQUENCE:3
DTSTAMP:20260422T191020Z
URL:https://business.greaterirmochamber.com/events/details/lunch-learn-healthy-skin-nutriance-organic-skin-care-3356
END:VEVENT

END:VCALENDAR
