BEGIN:VCALENDAR
VERSION:2.0
PRODID:-//ChamberMaster//Event Calendar 2.0//EN
METHOD:PUBLISH
X-PUBLISHED-TTL:P3D
REFRESH-INTERVAL:P3D
CALSCALE:GREGORIAN
BEGIN:VEVENT
DTSTART:20180822T160000Z
DTEND:20180822T170000Z
X-MICROSOFT-CDO-ALLDAYEVENT:FALSE
SUMMARY:Lunch & Learn: Human Resources for Small Business
DESCRIPTION:Our August Lunch & Learn will feature Rhonda Midgette\, owner of Insightful HR.  Rhonda will discuss developing employee handbooks\, employee training\, management training\, employee benefits and workplace harassment.
X-ALT-DESC;FMTTYPE=text/html:Our <strong>August Lunch &amp\; Learn</strong> will feature Rhonda Midgette\, owner of <strong>Insightful HR</strong>. &nbsp\;Rhonda will discuss developing employee handbooks\, employee training\, management training\, employee benefits and workplace harassment.
LOCATION:Greater Irmo Chamber of Commerce 1235 Columbia Ave. Irmo\, SC 29063
UID:e.1333.3212
SEQUENCE:3
DTSTAMP:20260423T150502Z
URL:https://business.greaterirmochamber.com/events/details/lunch-learn-human-resources-for-small-business-3212
END:VEVENT

END:VCALENDAR
