BEGIN:VCALENDAR
VERSION:2.0
PRODID:-//ChamberMaster//Event Calendar 2.0//EN
METHOD:PUBLISH
X-PUBLISHED-TTL:P3D
REFRESH-INTERVAL:P3D
CALSCALE:GREGORIAN
BEGIN:VEVENT
DTSTART:20190116T170000Z
DTEND:20190116T180000Z
X-MICROSOFT-CDO-ALLDAYEVENT:FALSE
SUMMARY:Lunch & Learn: Long Term Care Solutions
DESCRIPTION:Long Term Care Solutions\n\n \n\nCaroline Ward with Madison Insurance Group will give a comprehensive overview of the WHO\, WHAT\, WHEN\, WHERE and WHY of Long Term Care insurance. WHO qualifies? WHAT does Long Term Care insurance pay for? WHEN can a person start receiving the financial benefits? WHERE can a person stay? WHY is Long Term Care insurance an important option for the unknown probability and cost of Long Term Care needs? \n\n \n\nDid you know? The lifetime probability of becoming disabled in at least two activities of daily living OR of becoming cognitively impaired is 68% for people age 65 and older.\n\n \n\nDid you know? Medicaid does not cover the cost of traditional Long Term Care facilities.\n\n \n\nDid you know? The cost of Long Term Care facilities in Columbia\, SC range from $3\,500 - $10\,000 monthly and that does not include personal costs such as medical appointments\, medicine\, toiletries\, clothes\, diapers\, etc.
X-ALT-DESC;FMTTYPE=text/html:<strong><span style="font-size:14pt\;">Long Term Care Solutions</span></strong><br />\n&nbsp\;<br />\n<span style="font-size:14pt\;"><span style="position:static !important\;margin:0px !important\;padding:0px !important\;opacity:1 !important\;float:inherit !important\;font-style:inherit !important\;font-variant-caps:inherit !important\;font-stretch:inherit !important\;"><span style="font-size:inherit !important\;"><span style="font-family:inherit !important\;">Caroline Ward with Madison Insurance Group will give a comprehensive overview of the WHO\, WHAT\, WHEN\, WHERE and WHY of Long Term Care insurance. WHO qualifies? WHAT does Long Term Care insurance pay for? WHEN can a person start receiving the financial benefits? WHERE can a person stay? WHY is Long Term Care insurance an important option for the unknown probability and cost of Long Term Care needs?&nbsp\;</span></span></span></span><br />\n&nbsp\;<br />\n<strong><span style="font-size:14pt\;">Did you know?</span></strong><span style="font-size:14pt\;">&nbsp\;The lifetime probability of becoming disabled in at least two activities of daily living OR of becoming cognitively impaired is 68% for people age 65 and older.</span><br />\n&nbsp\;<br />\n<strong><span style="font-size:14pt\;">Did you know?</span></strong><span style="font-size:14pt\;">&nbsp\;Medicaid does not cover the cost of traditional Long Term Care facilities.</span><br />\n&nbsp\;<br />\n<strong><span style="font-size:14pt\;">Did you know?</span></strong><span style="font-size:14pt\;">&nbsp\;The cost of Long Term Care facilities in Columbia\, SC range from $3\,500 - $10\,000 monthly and that does not include personal costs such as medical appointments\, medicine\, toiletries\, clothes\, diapers\, etc.</span><br />\n&nbsp\;
LOCATION:Greater Irmo Chamber 1235 Columbia Ave. Irmo\, SC 29063
UID:e.1333.3292
SEQUENCE:3
DTSTAMP:20260423T071048Z
URL:https://business.greaterirmochamber.com/events/details/lunch-learn-long-term-care-solutions-3292
END:VEVENT

END:VCALENDAR
