BEGIN:VCALENDAR
VERSION:2.0
PRODID:-//ChamberMaster//Event Calendar 2.0//EN
METHOD:PUBLISH
X-PUBLISHED-TTL:P3D
REFRESH-INTERVAL:P3D
CALSCALE:GREGORIAN
BEGIN:VEVENT
DTSTART:20190717T153000Z
DTEND:20190717T170000Z
X-MICROSOFT-CDO-ALLDAYEVENT:FALSE
SUMMARY:Lunch & Learn: NeoLife and Financial Freedom
DESCRIPTION:"Do not depend on a job for financial freedom.  Jobs actually provide financial security which is completely different from Freedom.  A side business can get you started on your path to Freedom."\n\nEnjoy a healthy lunch while learning about Financial Freedom\, Freedom to be Well\, Freedom to help others\, and more!! Presented by Susan & Lee Adams & their NeoLife team.
X-ALT-DESC;FMTTYPE=text/html:&quot\;Do not depend on a job for financial freedom.&nbsp\; Jobs actually provide financial security which is completely different from Freedom.&nbsp\; A side business can get you started on your path to Freedom.&quot\;<br />\nEnjoy a healthy lunch while learning about Financial Freedom\, Freedom to be Well\, Freedom to help others\, and more!! Presented by Susan &amp\; Lee Adams &amp\; their NeoLife team.
LOCATION:1235 Columbia Avenue Irmo\, SC 29063
UID:e.1333.3348
SEQUENCE:3
DTSTAMP:20260422T213957Z
URL:https://business.greaterirmochamber.com/events/details/lunch-learn-neolife-and-financial-freedom-3348
END:VEVENT

END:VCALENDAR
