BEGIN:VCALENDAR
VERSION:2.0
PRODID:-//ChamberMaster//Event Calendar 2.0//EN
METHOD:PUBLISH
X-PUBLISHED-TTL:P3D
REFRESH-INTERVAL:P3D
CALSCALE:GREGORIAN
BEGIN:VEVENT
DTSTART:20191016T153000Z
DTEND:20191016T170000Z
X-MICROSOFT-CDO-ALLDAYEVENT:FALSE
SUMMARY:Lunch & Learn: Preparing Your Estate Plan
DESCRIPTION:Join David Wallace of Edward Jones as he presents Preparing Your Estate Plan!\n\nLisa Lee Smith from Lisa Lee Smith Law Firm\, LLC & Jessica Kline from Dunbar Funeral Homes will be available to answer questions!\n\nLunch will be provided!
X-ALT-DESC;FMTTYPE=text/html:Join David Wallace of Edward Jones as he presents Preparing Your Estate Plan!<br />\nLisa Lee Smith from Lisa Lee Smith Law Firm\, LLC &amp\; Jessica Kline from Dunbar Funeral Homes will be available to answer questions!<br />\nLunch will be provided!
LOCATION:Irmo Chamber 1235 Columbia Avenue Irmo\, SC 29063
UID:e.1333.3373
SEQUENCE:3
DTSTAMP:20260422T173552Z
URL:https://business.greaterirmochamber.com/events/details/lunch-learn-preparing-your-estate-plan-3373
END:VEVENT

END:VCALENDAR
