BEGIN:VCALENDAR
VERSION:2.0
PRODID:-//ChamberMaster//Event Calendar 2.0//EN
METHOD:PUBLISH
X-PUBLISHED-TTL:P3D
REFRESH-INTERVAL:P3D
CALSCALE:GREGORIAN
BEGIN:VEVENT
DTSTART:20181031T160000Z
DTEND:20181031T170000Z
X-MICROSOFT-CDO-ALLDAYEVENT:FALSE
SUMMARY:Lunch & Learn: Project SEARCH
DESCRIPTION:Calling all local businesses in the Greater Irmo Community!!  Project SEARCH needs you!\n\n\n\nCome and learn about a local job skills training program helping to prepare young adults for employment right here in your community! Project SEARCH is a transition program for young adults with disabilities who are motivated and capable of gainful community employment.  This program\, a partnership with Lexington Richland District 5\, SC Vocational Rehabilitation\, and Palmetto Health Baptist Parkridge\, provides meaningful classroom instruction as well as over 300 hours of hospital internship training in a variety of job skills. Students exit with the experience\, soft skills\, and confidence to apply for and retain full-time employment in a variety of job sectors. We are looking forward to sharing more about our interns this year and how we can work together to prepare these young adults for the working community! \n\n\n\nCome join us for a light lunch and learn more about Project SEARCH.  You could make a huge difference in the lives of local District 5 students right here in the community while they learn important work skills so they can lead full\, independent lives!
X-ALT-DESC;FMTTYPE=text/html:Calling all local businesses in the Greater Irmo Community!! &nbsp\;Project SEARCH needs you!<br />\n<br />\nCome and learn about a local job skills training program helping to prepare young adults for employment right here in your community! Project SEARCH is a transition program for young adults with disabilities who are motivated and capable of gainful community employment.&nbsp\; This program\, a partnership with Lexington Richland District 5\, SC Vocational Rehabilitation\, and Palmetto Health Baptist Parkridge\, provides meaningful classroom instruction as well as over 300 hours of hospital internship training in a variety of job skills. Students exit with the experience\, soft skills\, and confidence to apply for and retain full-time employment in a variety of job sectors. We are looking forward to sharing more about our interns this year and how we can work together to prepare these young adults for the working community!&nbsp\;<br />\n<br />\nCome join us for a light lunch and learn more about Project SEARCH. &nbsp\;You could make a huge difference in the lives of local District 5 students right here in the community while they learn important work skills so they can lead full\, independent lives!
LOCATION:Greater Irmo Chamber 1235 Columbia Ave. Irmo\, SC 29063
UID:e.1333.3271
SEQUENCE:3
DTSTAMP:20260423T115347Z
URL:https://business.greaterirmochamber.com/events/details/lunch-learn-project-search-3271
END:VEVENT

END:VCALENDAR
