BEGIN:VCALENDAR
VERSION:2.0
PRODID:-//ChamberMaster//Event Calendar 2.0//EN
METHOD:PUBLISH
X-PUBLISHED-TTL:P3D
REFRESH-INTERVAL:P3D
CALSCALE:GREGORIAN
BEGIN:VEVENT
DTSTART:20190918T153000Z
DTEND:20190918T170000Z
X-MICROSOFT-CDO-ALLDAYEVENT:FALSE
SUMMARY:Lunch & Learn: Setting Realistic Financial Goals
DESCRIPTION:Join David Wallace with Edward Jones Investments and Devon Bremner with MF3 for a discussion about setting realistic financial goals when planning for retirement.  \n\n\n\nSpace is limited and advanced registration is required and appreciated.  A light lunch will be served!
X-ALT-DESC;FMTTYPE=text/html:Join David Wallace with Edward Jones Investments and Devon Bremner with MF3 for a discussion about setting realistic financial goals when planning for retirement. &nbsp\;<br />\n<br />\nSpace is limited and advanced registration is required and appreciated. &nbsp\;A light lunch will be served!
LOCATION:Greater Irmo Chamber 1235 Columbia Ave. Irmo\, SC 29063
UID:e.1333.3364
SEQUENCE:3
DTSTAMP:20260422T190040Z
URL:https://business.greaterirmochamber.com/events/details/lunch-learn-setting-realistic-financial-goals-3364
END:VEVENT

END:VCALENDAR
