BEGIN:VCALENDAR
VERSION:2.0
PRODID:-//ChamberMaster//Event Calendar 2.0//EN
METHOD:PUBLISH
X-PUBLISHED-TTL:P3D
REFRESH-INTERVAL:P3D
CALSCALE:GREGORIAN
BEGIN:VEVENT
DTSTART:20260331T153000Z
DTEND:20260331T170000Z
X-MICROSOFT-CDO-ALLDAYEVENT:FALSE
SUMMARY:Lunch & Learn: Soda City Pin Up
DESCRIPTION:Tom Gregory is a professional photographer based in Chapin\, SC\, who specializes in retro pinup photography. An internationally published photographer and the 2026 winner of Irmo-Chapin Life Magazine's "Best Photographer\," Tom uses his work to empower women and remind them of the beauty and confidence they have always possessed. Through Soda City Pinup\, he celebrates women from all walks of life while also exploring the rich history and cultural significance of pinup art.\n\n\n\nJoin us for this inspiring Lunch & Learn to hear Tom's story\, get a behind-the-scenes look at his work\, and learn more about the message behind his photography. In addition to a delicious lunch\, attendees will receive a copy of his eBook\, The Art of Being Seen. Learn more at sodacitypinup.com.
X-ALT-DESC;FMTTYPE=text/html:<p class="p1" style="caret-color: rgb(0\, 0\, 0)\; color: rgb(0\, 0\, 0)\;"><span style="font-size:18px\;"><span style="font-family:verdana\;">Tom Gregory is a professional photographer based in Chapin\, SC\, who specializes in retro pinup photography. An internationally published photographer and the 2026 winner of Irmo-Chapin Life Magazine&rsquo\;s &ldquo\;Best Photographer\,&rdquo\; Tom uses his work to empower women and remind them of the beauty and confidence they have always possessed. Through Soda City Pinup\, he celebrates women from all walks of life while also exploring the rich history and cultural significance of pinup art.<br />\n<br />\nJoin us for this inspiring Lunch &amp\; Learn to hear Tom&rsquo\;s story\, get a behind-the-scenes look at his work\, and learn more about the message behind his photography. In addition to a delicious lunch\, attendees will receive a copy of his eBook\,&nbsp\;<i>The Art of Being Seen</i>. Learn more at sodacitypinup.com.</span></span></p>\n
LOCATION:
UID:e.1333.6491
SEQUENCE:3
DTSTAMP:20260423T234816Z
URL:https://business.greaterirmochamber.com/events/details/lunch-learn-soda-city-pin-up-6491
END:VEVENT

END:VCALENDAR
