BEGIN:VCALENDAR
VERSION:2.0
PRODID:-//ChamberMaster//Event Calendar 2.0//EN
METHOD:PUBLISH
X-PUBLISHED-TTL:P3D
REFRESH-INTERVAL:P3D
CALSCALE:GREGORIAN
BEGIN:VEVENT
DTSTART:20181024T160000Z
DTEND:20181024T170000Z
X-MICROSOFT-CDO-ALLDAYEVENT:FALSE
SUMMARY:Lunch & Learn: The Benefits of Home Staging
DESCRIPTION:Ever wonder why a staged house sells 2.5 times faster and for up to 20% higher price than a non-staged house? Come find out the many benefits of staging w/ Kimber Braswell of Sweetgrass Home Staging!  A light lunch will be served.
X-ALT-DESC;FMTTYPE=text/html:<span style="font-family:arial\;"><span style="font-size:12px\;">Ever wonder why a staged house sells 2.5 times faster and for up to 20% higher price than a non-staged house? Come find out the many benefits of staging w/ Kimber Braswell of <strong>Sweetgrass Home Staging</strong>! &nbsp\;A light lunch will be served.</span></span>
LOCATION:Greater Irmo Chamber 1235 Columbia Ave. Irmo\, SC 29063
UID:e.1333.3269
SEQUENCE:3
DTSTAMP:20260423T115620Z
URL:https://business.greaterirmochamber.com/events/details/lunch-learn-the-benefits-of-home-staging-3269
END:VEVENT

END:VCALENDAR
