BEGIN:VCALENDAR
VERSION:2.0
PRODID:-//ChamberMaster//Event Calendar 2.0//EN
METHOD:PUBLISH
X-PUBLISHED-TTL:P3D
REFRESH-INTERVAL:P3D
CALSCALE:GREGORIAN
BEGIN:VEVENT
DTSTART:20190327T153000Z
DTEND:20190327T170000Z
X-MICROSOFT-CDO-ALLDAYEVENT:FALSE
SUMMARY:Lunch & Learn: The Next Phase of Your Business
DESCRIPTION:Are you a business owner who is looking to expand?  \n	Are you growing fast?\n	Are you ready to retire and turn your business over to the next generation?\n\nJoin John Barnes and Wayne Jones with Pendleton Street Business Advisors for this FREE Lunch & Learn packed full of information about developing a strategy to help you trasition into the next phase of your business lifecycle.
X-ALT-DESC;FMTTYPE=text/html:<ul>\n	<li>Are you a business owner who is looking to expand? &nbsp\;</li>\n	<li>Are you growing fast?</li>\n	<li>Are you ready to retire and turn your business over to the next generation?</li>\n</ul>\nJoin John Barnes and Wayne Jones with <strong>Pendleton Street Business Advisors</strong> for this FREE Lunch &amp\; Learn packed full of information about developing a strategy to help you trasition into the next phase of your business lifecycle.
LOCATION:Greater Irmo Chamber 1235 Columbia Ave. Irmo\, SC 29063
UID:e.1333.3305
SEQUENCE:3
DTSTAMP:20260423T035502Z
URL:https://business.greaterirmochamber.com/events/details/lunch-learn-the-next-phase-of-your-business-3305
END:VEVENT

END:VCALENDAR
