BEGIN:VCALENDAR
VERSION:2.0
PRODID:-//ChamberMaster//Event Calendar 2.0//EN
METHOD:PUBLISH
X-PUBLISHED-TTL:P3D
REFRESH-INTERVAL:P3D
CALSCALE:GREGORIAN
BEGIN:VEVENT
DTSTART:20190710T150000Z
DTEND:20190710T170000Z
X-MICROSOFT-CDO-ALLDAYEVENT:FALSE
SUMMARY:Lunch & Learn: Tour the Nephron Pharmaceuticals Facility!
DESCRIPTION:Please join us for lunch and a tour of the Nephron Pharmaceuticals facility in West Columbia. This state of the art facility is where the art and science of pharmaceutical innovation meet.  We'll learn about the products Nephron manufactures right here in the Midlands along with the economic impact on our community.  Space is limited.  Advanced registration is required and lunch is provided by Nephron.  Please dress comfortably and feel free to wear your company logo!  Closed toe shoes are required.
X-ALT-DESC;FMTTYPE=text/html:Please join us for lunch and a tour of the <strong>Nephron Pharmaceuticals </strong>facility in West Columbia. This state of the art facility is where the art and science of pharmaceutical innovation meet. &nbsp\;We&#39\;ll learn about the products Nephron manufactures right here in the Midlands along with the economic impact on our community. &nbsp\;<strong>Space is limited</strong>. &nbsp\;<u><strong>Advanced registration is required</strong></u> and lunch is provided by Nephron. &nbsp\;Please dress comfortably and feel free to wear your company logo! &nbsp\;Closed toe shoes are required.
LOCATION:4500 12th Street Extension West Columbia\, SC 29172
UID:e.1333.3335
SEQUENCE:3
DTSTAMP:20260422T231255Z
URL:https://business.greaterirmochamber.com/events/details/lunch-learn-tour-the-nephron-pharmaceuticals-facility-3335
END:VEVENT

END:VCALENDAR
