BEGIN:VCALENDAR
VERSION:2.0
PRODID:-//ChamberMaster//Event Calendar 2.0//EN
METHOD:PUBLISH
X-PUBLISHED-TTL:P3D
REFRESH-INTERVAL:P3D
CALSCALE:GREGORIAN
BEGIN:VEVENT
DTSTART:20190501T150000Z
DTEND:20190501T170000Z
X-MICROSOFT-CDO-ALLDAYEVENT:FALSE
SUMMARY:Lunch & Learn: Tour the Shaw Industries Plant!
DESCRIPTION:Our May Lunch & Learn will feature a guided tour of the Shaw Industries Plant on St. Andrews Rd.\n\n\n\nShaw Industries has been a major partner in the Irmo community since 2005.  Come take a tour of the facility and learn about what they do there\, how many they employ and the impact they have on our community.  They will even feed you some lunch!
X-ALT-DESC;FMTTYPE=text/html:Our May Lunch &amp\; Learn will feature a guided tour of the Shaw Industries Plant on St. Andrews Rd.<br />\n<br />\nShaw Industries has been a major partner in the Irmo community since 2005. &nbsp\;Come take a tour of the facility and learn about what they do there\, how many they employ and the impact they have on our community. &nbsp\;They will even feed you some lunch!
LOCATION:Shaw Industries Plant 8S 4401 St. Andrews Rd. Columbia\, SC 29210
UID:e.1333.3316
SEQUENCE:3
DTSTAMP:20260423T021701Z
URL:https://business.greaterirmochamber.com/events/details/lunch-learn-tour-the-shaw-industries-plant-3316
END:VEVENT

END:VCALENDAR
