BEGIN:VCALENDAR
VERSION:2.0
PRODID:-//ChamberMaster//Event Calendar 2.0//EN
METHOD:PUBLISH
X-PUBLISHED-TTL:P3D
REFRESH-INTERVAL:P3D
CALSCALE:GREGORIAN
BEGIN:VEVENT
DTSTART:20180418T160000Z
DTEND:20180418T170000Z
X-MICROSOFT-CDO-ALLDAYEVENT:FALSE
SUMMARY:Lunch & Learn: TRUE Healthy Food Choices
DESCRIPTION:Our April Lunch & Learn will feature Michele Reid\, a Certified Integrative Health & Nutrition Coach and owner of Get Well with Michele.  The goal of this workshop is to empower you with simple and practical insights\, knowledge and resources to choosing the most balanced\, healthiest foods for your body in order to fuel it properly\, prevent inflammation and in turn disease.\n\n \n\nMichele's goal as a health and nutrition coach is to educate and coach others to becoming independently healthy without needing to rely on drugs\, surgery\, or doctors for anything but acute traumas. \n\n \n\nYou may have been brought up to believe that your health depends exclusively on the quality of the healthcare you receive. The truth is\, your health is your responsibility. You are the only person who can make the lifestyle decisions that contribute to your well being. \n\n \n\nYou are the one who must take the steps to preserve your health and promote your wellness. Only you have the power to create wellness for yourself. Your power lies in the choices you make every day on your own behalf. If you act out of habit or fixed attitudes\, you may not be using your choices wisely to create wellness in your life.\n\n \n\nMichele will give you some tools to help you undo those habits and fixed attitudes and send you in the right direction!
X-ALT-DESC;FMTTYPE=text/html:<div style="color: rgb(0\, 0\, 0)\; font-family: &quot\;times new roman&quot\;\, &quot\;new york&quot\;\, times\, serif\; font-size: 16px\;">Our <strong>April Lunch &amp\; Learn</strong> will feature <strong>Michele Reid</strong>\, a <strong>Certified Integrative Health &amp\; Nutrition Coach</strong> and owner of <strong>Get Well with Michele</strong>. &nbsp\;The goal of this workshop is to empower you with simple and practical insights\, knowledge and resources to choosing the most balanced\, healthiest foods for your body in order to fuel it properly\, prevent inflammation and in turn disease.</div>\n\n<div style="color: rgb(0\, 0\, 0)\; font-family: &quot\;times new roman&quot\;\, &quot\;new york&quot\;\, times\, serif\; font-size: 16px\;">&nbsp\;</div>\n\n<div style="color: rgb(0\, 0\, 0)\; font-family: &quot\;times new roman&quot\;\, &quot\;new york&quot\;\, times\, serif\; font-size: 16px\;">Michele&#39\;s goal as a health and nutrition coach is to educate and coach others to becoming independently healthy without&nbsp\;needing to rely on drugs\, surgery\, or doctors for anything but acute traumas.&nbsp\;</div>\n\n<div style="color: rgb(0\, 0\, 0)\; font-family: &quot\;times new roman&quot\;\, &quot\;new york&quot\;\, times\, serif\; font-size: 16px\;">&nbsp\;</div>\n\n<div style="color: rgb(0\, 0\, 0)\; font-family: &quot\;times new roman&quot\;\, &quot\;new york&quot\;\, times\, serif\; font-size: 16px\;">You may have been brought up to believe that your health depends exclusively on the quality of the healthcare you receive. The truth is\, your health is your responsibility. You are the only person who can make the lifestyle&nbsp\;decisions that contribute to your well being.&nbsp\;</div>\n\n<div style="color: rgb(0\, 0\, 0)\; font-family: &quot\;times new roman&quot\;\, &quot\;new york&quot\;\, times\, serif\; font-size: 16px\;">&nbsp\;</div>\n\n<div style="color: rgb(0\, 0\, 0)\; font-family: &quot\;times new roman&quot\;\, &quot\;new york&quot\;\, times\, serif\; font-size: 16px\;">You are the one who must take the steps to preserve your health and promote your wellness. Only you have the power to create wellness for yourself. Your power lies in the choices you make every day on your own behalf. If you act out of habit or fixed attitudes\, you may not be using your choices wisely to create wellness in your life.</div>\n\n<div style="color: rgb(0\, 0\, 0)\; font-family: &quot\;times new roman&quot\;\, &quot\;new york&quot\;\, times\, serif\; font-size: 16px\;">&nbsp\;</div>\n\n<div style="color: rgb(0\, 0\, 0)\; font-family: &quot\;times new roman&quot\;\, &quot\;new york&quot\;\, times\, serif\; font-size: 16px\;">Michele will give you some tools&nbsp\;to help you undo those habits and fixed attitudes and send you in the right direction!</div>\n
LOCATION:Greater Irmo Chamber of Commerce 1235 Columbia Ave. Irmo\, SC 29063
UID:e.1333.2988
SEQUENCE:3
DTSTAMP:20260423T230140Z
URL:https://business.greaterirmochamber.com/events/details/lunch-learn-true-healthy-food-choices-2988
END:VEVENT

END:VCALENDAR
