BEGIN:VCALENDAR
VERSION:2.0
PRODID:-//ChamberMaster//Event Calendar 2.0//EN
METHOD:PUBLISH
X-PUBLISHED-TTL:P3D
REFRESH-INTERVAL:P3D
CALSCALE:GREGORIAN
BEGIN:VEVENT
DTSTART:20190821T153000Z
DTEND:20190821T170000Z
X-MICROSOFT-CDO-ALLDAYEVENT:FALSE
SUMMARY:Lunch & Learn: Understanding Social Security
DESCRIPTION:Come to the #FunChamber and learn a little something while you lunch!!\n\n\n\nDavid Wallace with Edwards Jones Investments will be here to discuss Social Security and strategies to help you achieve your financial goals.
X-ALT-DESC;FMTTYPE=text/html:Come to the #FunChamber and learn a little something while you lunch!!<br />\n<br />\nDavid Wallace with Edwards Jones Investments will be here to discuss Social Security and strategies to help you achieve your financial goals.
LOCATION:Greater Irmo Chamber 1235 Columbia Ave. Irmo\, SC 29063
UID:e.1333.3354
SEQUENCE:3
DTSTAMP:20260422T213510Z
URL:https://business.greaterirmochamber.com/events/details/lunch-learn-understanding-social-security-3354
END:VEVENT

END:VCALENDAR
