BEGIN:VCALENDAR
VERSION:2.0
PRODID:-//ChamberMaster//Event Calendar 2.0//EN
METHOD:PUBLISH
X-PUBLISHED-TTL:P3D
REFRESH-INTERVAL:P3D
CALSCALE:GREGORIAN
BEGIN:VEVENT
DTSTART:20190227T170000Z
DTEND:20190227T180000Z
X-MICROSOFT-CDO-ALLDAYEVENT:FALSE
SUMMARY:Lunch & Learn: Upcoming Home Design Trends
DESCRIPTION:HGTV. This Old House. Martha Stewart.  With so many voices telling you what the latest and greatest is\, it can be hard to determine what look is right for YOUR home! \n\n\n\nWe are excited to welcome local designer and remodeler\, Shreck\, from Capital Kitchen & Bath to share upcoming design trends and tips that can help you\, whether you're just redecorating or if you're remodeling your home.  Forget keeping up with the Jones' make them keep up with you!\n\n\n\nA light lunch will be provided by Capital Kitchen & Bath but you must register in advance to be included in the headcount.
X-ALT-DESC;FMTTYPE=text/html:HGTV. This Old House. Martha Stewart.&nbsp\; With so many voices telling you what the latest and greatest is\, it can be hard to determine what look is right for YOUR home!&nbsp\;<br />\n<br />\nWe are excited to welcome local designer and remodeler\, Shreck\, from<strong> Capital Kitchen &amp\; Bath</strong> to share upcoming design trends and tips that can help you\, whether you&rsquo\;re just redecorating or if you&rsquo\;re remodeling your home.&nbsp\; Forget keeping up with the Jones&rsquo\;&hellip\;make them keep up with you!<br />\n<br />\nA light lunch will be provided by Capital Kitchen &amp\; Bath but you must register in advance to be included in the headcount.
LOCATION:Greater Irmo Chamber 1235 Columbia Ave. Irmo\, SC 29063
UID:e.1333.3302
SEQUENCE:3
DTSTAMP:20260423T053919Z
URL:https://business.greaterirmochamber.com/events/details/lunch-learn-upcoming-home-design-trends-3302
END:VEVENT

END:VCALENDAR
