BEGIN:VCALENDAR
VERSION:2.0
PRODID:-//ChamberMaster//Event Calendar 2.0//EN
METHOD:PUBLISH
X-PUBLISHED-TTL:P3D
REFRESH-INTERVAL:P3D
CALSCALE:GREGORIAN
BEGIN:VEVENT
DTSTART:20190115T170000Z
DTEND:20190115T170000Z
X-MICROSOFT-CDO-ALLDAYEVENT:FALSE
SUMMARY:Macbeth : National Theatre Live ON SCREEN
DESCRIPTION:Shakespeare's most intense and terrifying tragedy highlights the ruined aftermath of a bloody civil war.
X-ALT-DESC;FMTTYPE=text/html:Shakespeare&rsquo\;s most intense and terrifying tragedy highlights the ruined aftermath of a bloody civil war.
LOCATION:Harbison Theatre at Midlands Technical College 7300 College Street Irmo\, SC 29063
UID:e.1333.3234
SEQUENCE:3
DTSTAMP:20260423T071312Z
URL:https://business.greaterirmochamber.com/events/details/macbeth-national-theatre-live-on-screen-3234
END:VEVENT

END:VCALENDAR
