BEGIN:VCALENDAR
VERSION:2.0
PRODID:-//ChamberMaster//Event Calendar 2.0//EN
METHOD:PUBLISH
X-PUBLISHED-TTL:P3D
REFRESH-INTERVAL:P3D
CALSCALE:GREGORIAN
BEGIN:VEVENT
DTSTART:20170308T163000Z
DTEND:20170308T180000Z
X-MICROSOFT-CDO-ALLDAYEVENT:FALSE
SUMMARY:March 2017 Chamber Luncheon
DESCRIPTION:March Chamber Luncheon\n\nSponsor and Speaker:  Midlands Technical College\n\nCaterer:  Texas Roadhouse
X-ALT-DESC;FMTTYPE=text/html:March Chamber Luncheon<br />\nSponsor and Speaker: &nbsp\;Midlands Technical College<br />\nCaterer: &nbsp\;Texas Roadhouse
LOCATION:St. Andrews Presbyterian Church 6952 St. Andrews Road Columbia\, SC 29212
UID:e.1333.2520
SEQUENCE:3
DTSTAMP:20260424T171428Z
URL:https://business.greaterirmochamber.com/events/details/march-2017-chamber-luncheon-2520
END:VEVENT

END:VCALENDAR
