BEGIN:VCALENDAR
VERSION:2.0
PRODID:-//ChamberMaster//Event Calendar 2.0//EN
METHOD:PUBLISH
X-PUBLISHED-TTL:P3D
REFRESH-INTERVAL:P3D
CALSCALE:GREGORIAN
BEGIN:VEVENT
DTSTART:20170301T123000Z
DTEND:20170301T133000Z
X-MICROSOFT-CDO-ALLDAYEVENT:FALSE
SUMMARY:March 2017 Irmo Chamber Networking Breakfast
DESCRIPTION:Start your day off right with a delicious breakfast and some fun networking!\n\n\n\nONLY 30 SEATS AVAILABLE!\n\n\n\nPresented by Critical Wealth Transitions Advisors
X-ALT-DESC;FMTTYPE=text/html:Start your day off right with a delicious breakfast and some fun networking!<br />\n<br />\nONLY 30 SEATS AVAILABLE!<br />\n<br />\nPresented by Critical Wealth Transitions Advisors
LOCATION:Greater Irmo Chamber 1235 Columbia Ave. Irmo\, SC 29063
UID:e.1333.2517
SEQUENCE:3
DTSTAMP:20260424T183912Z
URL:https://business.greaterirmochamber.com/events/details/march-2017-irmo-chamber-networking-breakfast-2517
END:VEVENT

END:VCALENDAR
