BEGIN:VCALENDAR
VERSION:2.0
PRODID:-//ChamberMaster//Event Calendar 2.0//EN
METHOD:PUBLISH
X-PUBLISHED-TTL:P3D
REFRESH-INTERVAL:P3D
CALSCALE:GREGORIAN
BEGIN:VEVENT
DTSTART:20180322T210000Z
DTEND:20180322T230000Z
X-MICROSOFT-CDO-ALLDAYEVENT:FALSE
SUMMARY:March 2018 Chamber After Hours
DESCRIPTION:We're excited to announce our first After Hours Social of the year!  Join us for some networking\, beverages and refreshments out on the patio here at the Chamber!    Come see why we are the #funchamber!  Special thanks to Woodforest National Bank for sponsoring this event.
X-ALT-DESC;FMTTYPE=text/html:We&#39\;re excited to announce our first After Hours Social of the year! &nbsp\;Join us for some networking\, beverages and refreshments out on the patio here at the Chamber! &nbsp\; &nbsp\;Come see why we are the #funchamber! &nbsp\;Special thanks to <strong>Woodforest National Bank</strong> for sponsoring this event.
LOCATION:The Greater Irmo Chamber of Commerce 1235 Columbia Ave. Irmo\, SC 29063
UID:e.1333.2957
SEQUENCE:3
DTSTAMP:20260423T225939Z
URL:https://business.greaterirmochamber.com/events/details/march-2018-chamber-after-hours-2957
END:VEVENT

END:VCALENDAR
