BEGIN:VCALENDAR
VERSION:2.0
PRODID:-//ChamberMaster//Event Calendar 2.0//EN
METHOD:PUBLISH
X-PUBLISHED-TTL:P3D
REFRESH-INTERVAL:P3D
CALSCALE:GREGORIAN
BEGIN:VEVENT
DTSTART:20180301T130000Z
DTEND:20180301T140000Z
X-MICROSOFT-CDO-ALLDAYEVENT:FALSE
SUMMARY:March 2018 Chamber Breakfast
DESCRIPTION:Please join us for a great morning of networking and fellowship!  Special thanks to Amy Masincupp State Farm for sponsoring this event and to Gayle Urban with Dish It Out Catering for serving a delicious breakfast!
X-ALT-DESC;FMTTYPE=text/html:Please join us for a great morning of networking and fellowship!&nbsp\;&nbsp\;Special thanks to <strong>Amy Masincupp&nbsp\;State Farm</strong>&nbsp\;for sponsoring this event and to Gayle Urban with <strong>Dish It Out Catering</strong> for serving a delicious breakfast!
LOCATION:Greater Irmo Chamber of Commerce 1235 Columbia Ave. Irmo\, SC 29063
UID:e.1333.2955
SEQUENCE:3
DTSTAMP:20260423T225835Z
URL:https://business.greaterirmochamber.com/events/details/march-2018-chamber-breakfast-2955
END:VEVENT

END:VCALENDAR
