BEGIN:VCALENDAR
VERSION:2.0
PRODID:-//ChamberMaster//Event Calendar 2.0//EN
METHOD:PUBLISH
X-PUBLISHED-TTL:P3D
REFRESH-INTERVAL:P3D
CALSCALE:GREGORIAN
BEGIN:VEVENT
DTSTART:20180314T153000Z
DTEND:20180314T170000Z
X-MICROSOFT-CDO-ALLDAYEVENT:FALSE
SUMMARY:March 2018 Chamber Luncheon
DESCRIPTION:Please join us for our March Chamber Luncheon on Wednesday\, March 14\, 2018 from 11:30am-1pm at St. Andrews Presbyterian Church.  This month\, we will hear from Chet Wade\, VP of Corporate Communications for Dominion Energy.  Mr. Wade will be prepared to discuss your questions regarding Dominion Energy's purchase of the SCANA Corp. and how this will impact SCE&G power customers in our community.  Additional thanks to Dominion Energy for sponsoring our luncheon. Caterer:  Texas Roadhouse
X-ALT-DESC;FMTTYPE=text/html:<span style="font-family: arial\;">Please join us for our&nbsp\;</span><strong style="font-family: arial\;">March Chamber Luncheon</strong><span style="font-family: arial\;">&nbsp\;on&nbsp\;</span><strong style="font-family: arial\;">Wednesday\, March 14\, 2018</strong><span style="font-family: arial\;">&nbsp\;from&nbsp\;</span><strong style="font-family: arial\;">11:30am-1pm</strong><span style="font-family: arial\;">&nbsp\;at&nbsp\;</span><strong style="font-family: arial\;">St. Andrews Presbyterian Church</strong><span style="font-family: arial\;">. &nbsp\;This month\, we will hear from</span>&nbsp\;<strong>Chet Wade</strong>\, VP of Corporate Communications for <strong>Dominion Energy</strong>. &nbsp\;Mr. Wade will be prepared to discuss your questions regarding Dominion Energy&#39\;s purchase of the SCANA Corp. and how this will impact SCE&amp\;G power customers in our community. &nbsp\;<font face="arial">Additional thanks to<b> Dominion Energy </b>for sponsoring our luncheon. Caterer:&nbsp\; Texas Roadhouse</font>
LOCATION:St. Andrews Presbyterian Church 6952 St. Andrews Rd. Columbia\, SC 29212
UID:e.1333.2953
SEQUENCE:3
DTSTAMP:20260423T230023Z
URL:https://business.greaterirmochamber.com/events/details/march-2018-chamber-luncheon-2953
END:VEVENT

END:VCALENDAR
