BEGIN:VCALENDAR
VERSION:2.0
PRODID:-//ChamberMaster//Event Calendar 2.0//EN
METHOD:PUBLISH
X-PUBLISHED-TTL:P3D
REFRESH-INTERVAL:P3D
CALSCALE:GREGORIAN
BEGIN:VEVENT
DTSTART:20190313T153000Z
DTEND:20190313T170000Z
X-MICROSOFT-CDO-ALLDAYEVENT:FALSE
SUMMARY:March 2019 Chamber Luncheon
DESCRIPTION:Please join us for our March Chamber Luncheon on Wednesday\, March 13\, 2019 from 11:30am-1pm at St. Andrews Presbyterian Church.  This month\, we will welcome Jen Thompson\, Executive Director of Lighthouse for Life back to Irmo for an update on the fight against human trafficking in South Carolina. Special thanks to our partners at Modern Exterminating for sponsoring this event! Our caterer will be Firehouse Subs!!
X-ALT-DESC;FMTTYPE=text/html:<span style="font-family: arial\;">Please join us for our <strong>March</strong></span><strong style="font-family: arial\;">&nbsp\;Chamber Luncheon</strong><span style="font-family: arial\;">&nbsp\;on&nbsp\;</span><strong style="font-family: arial\;">Wednesday\, March 13\, 2019</strong><span style="font-family: arial\;">&nbsp\;from&nbsp\;</span><strong style="font-family: arial\;">11:30am-1pm</strong><span style="font-family: arial\;">&nbsp\;at&nbsp\;</span><strong style="font-family: arial\;">St. Andrews Presbyterian Church</strong><span style="font-family: arial\;">. &nbsp\;This month\, we will welcome Jen Thompson\, Executive Director of <strong>Lighthouse for Life</strong> back to Irmo for an update on the fight against human trafficking in South Carolina.</span><font face="arial">&nbsp\;Special thanks to our partners at&nbsp\;<strong>Modern Exterminating&nbsp\;</strong>for sponsoring this event! Our caterer will be <strong>Firehouse Subs</strong>!!</font>
LOCATION:St. Andrews Presbyterian Church 6952 St. Andrews Rd. Columbia\, SC 29212
UID:e.1333.3300
SEQUENCE:3
DTSTAMP:20260423T053213Z
URL:https://business.greaterirmochamber.com/events/details/march-2019-chamber-luncheon-3300
END:VEVENT

END:VCALENDAR
