BEGIN:VCALENDAR
VERSION:2.0
PRODID:-//ChamberMaster//Event Calendar 2.0//EN
METHOD:PUBLISH
X-PUBLISHED-TTL:P3D
REFRESH-INTERVAL:P3D
CALSCALE:GREGORIAN
BEGIN:VEVENT
DTSTART:20170228T210000Z
DTEND:20170228T230000Z
X-MICROSOFT-CDO-ALLDAYEVENT:FALSE
SUMMARY:MARDI GRAS MASQUERADE
DESCRIPTION:Join us at HarborChase as we let the good times roll with a Mardi Gras Masquerade!\n\n\n\nYou will feel like you are in the French Quarter as we don our masks for an authentic masquerade ball. Belt out your favorite karaoke tunes and get ready to help us celebrate as we crown our own Master or Madam Masquerade. You will also enjoy complimentary cocktails and chef-prepared New Orleans favorites\, such as jambalaya\, beignets and Shrimp Creole. It is sure to be a festive evening you won't soon forget!\n\n\n\nWhile you are here\, be sure to take some time to explore our beautiful community\, check out our amazing amenities and experience the exceptional and engaging lifestyle our residents enjoy every day. We hope to see you there!\n\n\n\nThe first 5 to RSVP will receive a free mask! Call today!\n\n(803) 781-2243
X-ALT-DESC;FMTTYPE=text/html:Join us at HarborChase as we let the good times roll with a Mardi Gras Masquerade!<br />\n<br />\nYou will feel like you are in the French Quarter as we don our masks for an authentic masquerade ball. Belt out your favorite karaoke tunes and get ready to help us celebrate as we crown our own Master or Madam Masquerade. You will also enjoy complimentary cocktails and chef-prepared New Orleans favorites\, such as jambalaya\, beignets and Shrimp Creole. It is sure to be a festive evening you won&rsquo\;t soon forget!<br />\n<br />\nWhile you are here\, be sure to take some time to explore our beautiful community\, check out our amazing amenities and experience the exceptional and engaging lifestyle our residents enjoy every day. We hope to see you there!<br />\n<br />\nThe first 5 to RSVP will receive a free mask! Call today!<br />\n(803) 781-2243
LOCATION:HarborChase of Columbia 120 Fairforest Road Columbia\, SC 29212 Overlooking beautiful Lake Woodcross in the heavily wooded Harbison area\, HarborChase of Columbia Assisted Living and Memory Care offers retirement living for individuals seeking some respectful assistance with the activities of daily living. Though nestled in a natural setting\, HarborChase is only minutes away from some of the most popular shopping and dining establishments in the Columbia area. This combination of natural beauty\, serenity and a lifestyle that is as active as each resident chooses is the heart of what HarborChase of Columbia Assisted Living and Memory Care is all about.
UID:e.1333.2514
SEQUENCE:3
DTSTAMP:20260424T184218Z
URL:https://business.greaterirmochamber.com/events/details/mardi-gras-masquerade-2514
END:VEVENT

END:VCALENDAR
