BEGIN:VCALENDAR
VERSION:2.0
PRODID:-//ChamberMaster//Event Calendar 2.0//EN
METHOD:PUBLISH
X-PUBLISHED-TTL:P3D
REFRESH-INTERVAL:P3D
CALSCALE:GREGORIAN
BEGIN:VEVENT
DTSTART:20190907T120000Z
DTEND:20190907T170000Z
X-MICROSOFT-CDO-ALLDAYEVENT:FALSE
SUMMARY:Martha's Market
DESCRIPTION:more than 70 vendors\, free admission\, proceeds are going to Snack Pack Lex/Richland 5 school distrcit and Wallace Family Life Center
X-ALT-DESC;FMTTYPE=text/html:more than 70 vendors\, free admission\, proceeds are going to Snack Pack Lex/Richland 5 school distrcit and Wallace Family Life Center
LOCATION:Union United Methodist
UID:e.1333.3362
SEQUENCE:3
DTSTAMP:20260422T190249Z
URL:https://business.greaterirmochamber.com/events/details/martha-s-market-09-07-2019-3362
END:VEVENT

END:VCALENDAR
