BEGIN:VCALENDAR
VERSION:2.0
PRODID:-//ChamberMaster//Event Calendar 2.0//EN
METHOD:PUBLISH
X-PUBLISHED-TTL:P3D
REFRESH-INTERVAL:P3D
CALSCALE:GREGORIAN
BEGIN:VEVENT
DTSTART:20180908T130000Z
DTEND:20180908T170000Z
X-MICROSOFT-CDO-ALLDAYEVENT:FALSE
SUMMARY:Martha's Market
DESCRIPTION:On Saturday w/free admission there will be more than 70 vendors and food available for purchase. Also Friday night preview party is $10/ticket.
X-ALT-DESC;FMTTYPE=text/html:On Saturday w/free admission there will be more than 70 vendors and food available for purchase. Also Friday night preview party is $10/ticket.
LOCATION:Union UMC
UID:e.1333.3218
SEQUENCE:3
DTSTAMP:20260423T133118Z
URL:https://business.greaterirmochamber.com/events/details/martha-s-market-09-08-2018-3218
END:VEVENT

END:VCALENDAR
