BEGIN:VCALENDAR
VERSION:2.0
PRODID:-//ChamberMaster//Event Calendar 2.0//EN
METHOD:PUBLISH
X-PUBLISHED-TTL:P3D
REFRESH-INTERVAL:P3D
CALSCALE:GREGORIAN
BEGIN:VEVENT
DTSTART:20170909T130000Z
DTEND:20170909T170000Z
X-MICROSOFT-CDO-ALLDAYEVENT:FALSE
SUMMARY:Martha's Market
DESCRIPTION:FREE Event Come shop with our 70+ Vendors! Breakfast and lunch available for purchase..This years proceeds will benefit Sharing God's Love and the Snack Pack Program. Bring a physical or monetary donation for Snack Pack and receive a free shopping bag. Kids Zone with face painting and Balloonopolyis plus giveaways all day long! There is truly something for everyone! #MarthasMarket2017 Visit our Facebook page for more details!
X-ALT-DESC;FMTTYPE=text/html:<p><span style="font-size:12pt">FREE Event Come shop with our 70+ Vendors! Breakfast and lunch available for purchase..This years proceeds will benefit Sharing God&#39\;s Love and the Snack Pack Program. Bring a physical or monetary donation for Snack Pack and receive a free shopping bag. Kids Zone with face painting and Balloonopolyis plus giveaways all day long! There is truly something for everyone! #MarthasMarket2017 Visit our Facebook page for more details!</span></p>\n
LOCATION:Union United Methodist Church 7582 Woodrow St Irmo\, SC 29063
UID:e.1333.2897
SEQUENCE:3
DTSTAMP:20260424T082107Z
URL:https://business.greaterirmochamber.com/events/details/martha-s-market-2897
END:VEVENT

END:VCALENDAR
