BEGIN:VCALENDAR
VERSION:2.0
PRODID:-//ChamberMaster//Event Calendar 2.0//EN
METHOD:PUBLISH
X-PUBLISHED-TTL:P3D
REFRESH-INTERVAL:P3D
CALSCALE:GREGORIAN
BEGIN:VEVENT
DTSTART:20170510T153000Z
DTEND:20170510T170000Z
X-MICROSOFT-CDO-ALLDAYEVENT:FALSE
SUMMARY:May 2017 Chamber Luncheon
DESCRIPTION:Join us at our May Luncheon.  Jen Thompson from Lighthouse for Life will be our speaker on the topic of human trafficking in our community.  Bonefish Grill will provide lunch and special thanks to Mid Carolina Electric Cooperative for sponsoring this event!
X-ALT-DESC;FMTTYPE=text/html:Join us at our May Luncheon. &nbsp\;Jen Thompson from Lighthouse for Life will be our speaker on the topic of human trafficking in our community. &nbsp\;Bonefish Grill will provide lunch and special thanks to Mid Carolina Electric Cooperative for sponsoring this event!<br />\n&nbsp\;
LOCATION:St. Andrews Presbyterian Church 6952 St. Andrews Road Columbia\, SC
UID:e.1333.2557
SEQUENCE:3
DTSTAMP:20260424T141816Z
URL:https://business.greaterirmochamber.com/events/details/may-2017-chamber-luncheon-2557
END:VEVENT

END:VCALENDAR
