BEGIN:VCALENDAR
VERSION:2.0
PRODID:-//ChamberMaster//Event Calendar 2.0//EN
METHOD:PUBLISH
X-PUBLISHED-TTL:P3D
REFRESH-INTERVAL:P3D
CALSCALE:GREGORIAN
BEGIN:VEVENT
DTSTART:20190508T153000Z
DTEND:20190508T170000Z
X-MICROSOFT-CDO-ALLDAYEVENT:FALSE
SUMMARY:May 2019 Chamber Luncheon
DESCRIPTION:Please join us for our May Chamber Luncheon on Wednesday\, May 8\, 2019 from 11:30am-1pm at St. Andrews Presbyterian Church.   This month\, we will hear from Elmer Polite\, CFO with Prisma Health (formerly Palmetto Health) and he will fill us in on the merger and the role they will continue to play in the Irmo community.   FATZ Southern Kitchen will be catering.
X-ALT-DESC;FMTTYPE=text/html:<span style="font-family: arial\;">Please join us for our <strong>May</strong></span><strong style="font-family: arial\;">&nbsp\;Chamber Luncheon</strong><span style="font-family: arial\;">&nbsp\;on&nbsp\;</span><strong style="font-family: arial\;">Wednesday\, May 8\, 2019</strong><span style="font-family: arial\;">&nbsp\;from&nbsp\;</span><strong style="font-family: arial\;">11:30am-1pm</strong><span style="font-family: arial\;">&nbsp\;at&nbsp\;</span><strong style="font-family: arial\;">St. Andrews Presbyterian Church</strong><span style="font-family: arial\;">. &nbsp\;</span><font face="arial">&nbsp\;This month\, we will hear from Elmer Polite\, CFO with&nbsp\;<strong>Prisma Health (formerly Palmetto Health)</strong>&nbsp\;and he will fill us in on the merger and the role they will continue to play in the Irmo community. &nbsp\; <strong>FATZ Southern Kitchen</strong> will be catering.</font>
LOCATION:St. Andrews Presbyterian Church 6952 St. Andrews Rd. Columbia\, SC 29212
UID:e.1333.3321
SEQUENCE:3
DTSTAMP:20260423T004143Z
URL:https://business.greaterirmochamber.com/events/details/may-2019-chamber-luncheon-3321
END:VEVENT

END:VCALENDAR
