BEGIN:VCALENDAR
VERSION:2.0
PRODID:-//ChamberMaster//Event Calendar 2.0//EN
METHOD:PUBLISH
X-PUBLISHED-TTL:P3D
REFRESH-INTERVAL:P3D
CALSCALE:GREGORIAN
BEGIN:VEVENT
DTSTART:20260513T153000Z
DTEND:20260513T170000Z
X-MICROSOFT-CDO-ALLDAYEVENT:FALSE
SUMMARY:May 2026 Partner Luncheon
DESCRIPTION:Please join us for our May Partner Luncheon on Wednesday\, May 13\, 2026 from 11:30am-1pm at St. Andrews Presbyterian Church.  This month\, we are pleased to welcome Eric Bland\, Founder/Partner of the Bland Richter Law Firm\, best selling author and national media authority\,  to our podium talk about his time on the Alex Murdaugh case.\n\n\n\nThank you to the Midlands Family Chiropractic for presenting this event and Bonefish Grill for catering our lunch!\n\n\n\nTickets are $15 in advance or $20 at the door for members.   $30 for potential members.  If you are an Influencer partner and above\, Law Enforcement\, First Responder OR a Lunch Card Holder\, please email Ginger to reserve your lunch.(events@greaterirmochamber.com) \n\n\n\nAudio visual and digital presence is provided by Cut Throat Marketing.
X-ALT-DESC;FMTTYPE=text/html:<span style="font-size:18px\;"><span style="font-family:verdana\;"><span style="color: rgb(51\, 51\, 51)\;">Please join us for our&nbsp\;</span><strong style="font-family: verdana\; font-size: 18px\;"><span style="color:#333333\;">May Partner Luncheon</span></strong><span style="color: rgb(51\, 51\, 51)\;">&nbsp\;on&nbsp\;</span><strong style="font-family: verdana\; font-size: 18px\;"><span style="color:#333333\;">Wednesday\, May 13\, 2026</span></strong><span style="color: rgb(51\, 51\, 51)\;">&nbsp\;from&nbsp\;</span><strong style="font-family: verdana\; font-size: 18px\;"><span style="color:#333333\;">11:30am-1pm</span></strong>&nbsp\;at&nbsp\;<b style="color: rgb(51\, 51\, 51)\; font-family: verdana\; font-size: 18px\;">St. Andrews Presbyterian Church. &nbsp\;</b></span></span><span style="font-family:verdana\,sans-serif\;"><span style="font-size:14pt\;">This month\, we are pleased to welcome <strong>Eric Bland</strong>\, Founder/Partner of the Bland Richter Law Firm\, best selling author and national media authority\, &nbsp\;to our podium talk about his time on the Alex Murdaugh case.</span></span><br />\n<br />\n<span style="font-size:18px\;"><span style="font-family:verdana\;">Thank you to the <strong>Midlands Family Chiropractic</strong> for presenting this event and&nbsp\;<strong>Bonefish Grill</strong> for catering our lunch!<br />\n<br />\n<strong style="font-family: verdana\; font-size: 18px\;">Tickets are $15 in advance or $20 at the door for members.&nbsp\;</strong>&nbsp\; <strong>$30 for potential members.</strong> &nbsp\;<strong style="font-family: verdana\; font-size: 18px\;">If you are an Influencer partner and above\, Law Enforcement\,&nbsp\;First Responder OR a Lunch Card Holder\, please email Ginger to reserve your lunch.</strong>(<a href="mailto:ceo@greaterirmochamber.com" style="font-family: verdana\; font-size: 18px\;">e</a><a href="mailto:events@greaterirmochamber.com" style="font-family: verdana\; font-size: 18px\;">vents@greaterirmochamber.com</a>)&nbsp\;<br />\n<br />\nAudio visual and digital presence&nbsp\;is provided by&nbsp\;<strong style="font-family: verdana\; font-size: 18px\;">Cut Throat Marketing.</strong></span></span><br />\n<br />\n&nbsp\;
LOCATION:St. Andrews Presbyterian Church 6952 St. Andrews Rd. (across from Murraywood Center)
UID:e.1333.6493
SEQUENCE:3
DTSTAMP:20260422T125547Z
URL:https://business.greaterirmochamber.com/events/details/may-2026-partner-luncheon-6493
END:VEVENT

END:VCALENDAR
