BEGIN:VCALENDAR
VERSION:2.0
PRODID:-//ChamberMaster//Event Calendar 2.0//EN
METHOD:PUBLISH
X-PUBLISHED-TTL:P3D
REFRESH-INTERVAL:P3D
CALSCALE:GREGORIAN
BEGIN:VEVENT
DTSTART:20170504T113000Z
DTEND:20170504T123000Z
X-MICROSOFT-CDO-ALLDAYEVENT:FALSE
SUMMARY:May Chamber Breakfast
DESCRIPTION:Join us for a fun hour of networking and a delicious breakfast!  Only 25 seats available so register now!\n\n\n\nThank you to Woodforest National Bank for sponsoring this event!
X-ALT-DESC;FMTTYPE=text/html:Join us for a fun hour of networking and a delicious breakfast! &nbsp\;Only 25 seats available so register now!<br />\n<br />\nThank you to Woodforest National Bank for sponsoring this event!
LOCATION:Greater Irmo Chamber Building
UID:e.1333.2527
SEQUENCE:3
DTSTAMP:20260424T141713Z
URL:https://business.greaterirmochamber.com/events/details/may-chamber-breakfast-2527
END:VEVENT

END:VCALENDAR
