BEGIN:VCALENDAR
VERSION:2.0
PRODID:-//ChamberMaster//Event Calendar 2.0//EN
METHOD:PUBLISH
X-PUBLISHED-TTL:P3D
REFRESH-INTERVAL:P3D
CALSCALE:GREGORIAN
BEGIN:VEVENT
DTSTART:20180512T120000Z
DTEND:20180512T170000Z
X-MICROSOFT-CDO-ALLDAYEVENT:FALSE
SUMMARY:May Chamber Service Project
DESCRIPTION:Please help us serve our community by volunteering at the Special Olympics South Carolina Summer Games on May 12\, 2018 at Blythewood High School.  \n\n\n\nTwo shifts are available:  8am-11:30am and 10:30am-1pm. CLICK THIS LINK and choose TRACK AND FIELD as the event.  Also\, if any of our volunteers want to take their children with them to help and they are SCHOOL AGE\, they can.
X-ALT-DESC;FMTTYPE=text/html:Please help us serve our community by volunteering at the <strong>Special Olympics South Carolina Summer Games&nbsp\;</strong>on May 12\, 2018 at Blythewood&nbsp\;High School.&nbsp\;&nbsp\;<br />\n<br />\nTwo shifts are available: &nbsp\;8am-11:30am and 10:30am-1pm. <a href="http://specialolympicssouthcarolina.volunteerlocal.com/volunteer/?id=26759">CLICK THIS LINK</a> and choose <strong>TRACK AND FIELD</strong> as the event.&nbsp\; Also\, if any of our volunteers want to take their children with them to help and they are SCHOOL AGE\, they can.<br />\n&nbsp\;<br />\n&nbsp\;
LOCATION:Blythewood High School 10901 Wilson Blvd. Blythewood\, SC
UID:e.1333.2996
SEQUENCE:3
DTSTAMP:20260423T193337Z
URL:https://business.greaterirmochamber.com/events/details/may-chamber-service-project-2996
END:VEVENT

END:VCALENDAR
