BEGIN:VCALENDAR
VERSION:2.0
PRODID:-//ChamberMaster//Event Calendar 2.0//EN
METHOD:PUBLISH
X-PUBLISHED-TTL:P3D
REFRESH-INTERVAL:P3D
CALSCALE:GREGORIAN
BEGIN:VEVENT
DTSTART:20180430T203000Z
DTEND:20180430T213000Z
X-MICROSOFT-CDO-ALLDAYEVENT:FALSE
SUMMARY:May Diplomat Meeting
DESCRIPTION:Attention all Irmo Chamber Diplomats:  mark your calendars for our May Diplomat Meeting!
X-ALT-DESC;FMTTYPE=text/html:Attention all Irmo Chamber Diplomats: &nbsp\;mark your calendars for our May Diplomat Meeting!
LOCATION:Irmo Chamber 1235 Columbia Ave. Irmo\, SC 29063
UID:e.1333.2994
SEQUENCE:3
DTSTAMP:20260423T210931Z
URL:https://business.greaterirmochamber.com/events/details/may-diplomat-meeting-2994
END:VEVENT

END:VCALENDAR
