BEGIN:VCALENDAR
VERSION:2.0
PRODID:-//ChamberMaster//Event Calendar 2.0//EN
METHOD:PUBLISH
X-PUBLISHED-TTL:P3D
REFRESH-INTERVAL:P3D
CALSCALE:GREGORIAN
BEGIN:VEVENT
DTSTART:20191208T220000Z
DTEND:20191208T233000Z
X-MICROSOFT-CDO-ALLDAYEVENT:FALSE
SUMMARY:Merry Christmas\, Angel
DESCRIPTION:The RH Choir and Orchestra presents the 2019 Christmas Pageant. This drama tells the Christmas message within an a urban setting\, featuring jazz-swing versions of carol favorites.
X-ALT-DESC;FMTTYPE=text/html:The RH Choir and Orchestra presents the 2019 Christmas Pageant. This drama tells the Christmas message within an a urban setting\, featuring jazz-swing versions of carol favorites.
LOCATION:Riverland Hills Baptist Church
UID:e.1333.3388
SEQUENCE:3
DTSTAMP:20260422T144225Z
URL:https://business.greaterirmochamber.com/events/details/merry-christmas-angel-3388
END:VEVENT

END:VCALENDAR
