BEGIN:VCALENDAR
VERSION:2.0
PRODID:-//ChamberMaster//Event Calendar 2.0//EN
METHOD:PUBLISH
X-PUBLISHED-TTL:P3D
REFRESH-INTERVAL:P3D
CALSCALE:GREGORIAN
BEGIN:VEVENT
DTSTART:20170502T160000Z
DTEND:20170502T190000Z
X-MICROSOFT-CDO-ALLDAYEVENT:FALSE
SUMMARY:Midlands Gives - Sharing God's Love Open House
DESCRIPTION:Come join us for a Open House and Reception during Midlands Gives Day\, May 2nd.\n\nWe will have tours of our facility as well as refreshments. Come learn about what\n\nour ministry does to support our local community.
X-ALT-DESC;FMTTYPE=text/html:Come join us for a Open House and Reception during Midlands Gives Day\, May 2nd.<br />\nWe will have tours of our facility as well as refreshments. Come learn about what<br />\nour ministry does to support our local community.
LOCATION:147 Friarsgate Blvd.\, Irmo\, SC 29063
UID:e.1333.2551
SEQUENCE:3
DTSTAMP:20260424T142938Z
URL:https://business.greaterirmochamber.com/events/details/midlands-gives-sharing-god-s-love-open-house-2551
END:VEVENT

END:VCALENDAR
