BEGIN:VCALENDAR
VERSION:2.0
PRODID:-//ChamberMaster//Event Calendar 2.0//EN
METHOD:PUBLISH
X-PUBLISHED-TTL:P3D
REFRESH-INTERVAL:P3D
CALSCALE:GREGORIAN
BEGIN:VEVENT
DTSTART:20180907T160000Z
DTEND:20180907T160000Z
X-MICROSOFT-CDO-ALLDAYEVENT:FALSE
SUMMARY:Mike Super Magic and Illusion
DESCRIPTION:Through spectacular illusions and his own unique down-to-earth style and personality\, Mike Super has pioneered a new form of magic that transcends the "trick."
X-ALT-DESC;FMTTYPE=text/html:Through spectacular illusions and his own unique down-to-earth style and personality\, Mike Super has pioneered a new form of magic that transcends the &ldquo\;trick.&rdquo\;
LOCATION:Harbison Theatre at Midlands Technical College 7300 College Street Irmo\, SC 29063
UID:e.1333.3226
SEQUENCE:3
DTSTAMP:20260423T132338Z
URL:https://business.greaterirmochamber.com/events/details/mike-super-magic-and-illusion-3226
END:VEVENT

END:VCALENDAR
