BEGIN:VCALENDAR
VERSION:2.0
PRODID:-//ChamberMaster//Event Calendar 2.0//EN
METHOD:PUBLISH
X-PUBLISHED-TTL:P3D
REFRESH-INTERVAL:P3D
CALSCALE:GREGORIAN
BEGIN:VEVENT
DTSTART:20170304T150000Z
DTEND:20170304T190000Z
X-MICROSOFT-CDO-ALLDAYEVENT:FALSE
SUMMARY:Military Career & Resource Fair
DESCRIPTION:Veterans\, Active/Retired Service Members and Family Members are invited to connect with local employers\, state agencies\, and organizations that provide military and veteran services.
X-ALT-DESC;FMTTYPE=text/html:Veterans\, Active/Retired Service Members and Family Members are invited to connect with local employers\, state agencies\, and organizations that provide military and veteran services.
LOCATION:SC National Guard Armory 3528 Platt Springs Rd West Columbia\, SC
UID:e.1333.2513
SEQUENCE:3
DTSTAMP:20260424T184051Z
URL:https://business.greaterirmochamber.com/events/details/military-career-resource-fair-2513
END:VEVENT

END:VCALENDAR
