BEGIN:VCALENDAR
VERSION:2.0
PRODID:-//ChamberMaster//Event Calendar 2.0//EN
METHOD:PUBLISH
X-PUBLISHED-TTL:P3D
REFRESH-INTERVAL:P3D
CALSCALE:GREGORIAN
BEGIN:VEVENT
DTSTART:20180117T223000Z
DTEND:20180118T000000Z
X-MICROSOFT-CDO-ALLDAYEVENT:FALSE
SUMMARY:Minnie's Auto Repair: Car Care Class
DESCRIPTION:Come on out to our first after-hours free car care class. This month\, we're talking about how to change a tire for your spare\, in case of an emergency. Refreshments will be served.
X-ALT-DESC;FMTTYPE=text/html:<span style="color: rgb(75\, 79\, 86)\; font-family: system-ui\, -apple-system\, BlinkMacSystemFont\, &quot\;.SFNSText-Regular&quot\;\, sans-serif\; font-size: 14px\;">Come on out to our first after-hours free car care class. This month\, we&#39\;re talking about how to change a tire for your spare\, in case of an emergency. Refreshments will be served.</span>
LOCATION:Minnie's Auto Repair 6220 St. Andrews Rd. Columbia\, SC 29212
UID:e.1333.2942
SEQUENCE:3
DTSTAMP:20260424T020626Z
URL:https://business.greaterirmochamber.com/events/details/minnie-s-auto-repair-car-care-class-2942
END:VEVENT

END:VCALENDAR
