BEGIN:VCALENDAR
VERSION:2.0
PRODID:-//ChamberMaster//Event Calendar 2.0//EN
METHOD:PUBLISH
X-PUBLISHED-TTL:P3D
REFRESH-INTERVAL:P3D
CALSCALE:GREGORIAN
BEGIN:VEVENT
DTSTART:20171106T220000Z
DTEND:20171106T230000Z
X-MICROSOFT-CDO-ALLDAYEVENT:FALSE
SUMMARY:Minnie's Auto Repair Grand Opening and Ribbon Cutting
DESCRIPTION:Join us to welcome Minnie's Auto Repair to our Chamber!\n\nRibbon Cutting at 5:15 p.m.
X-ALT-DESC;FMTTYPE=text/html:Join us to welcome Minnie&#39\;s Auto Repair to our Chamber!<br />\nRibbon Cutting at 5:15 p.m.
LOCATION:6220 St. Andrews Road Columbia\, SC
UID:e.1333.2924
SEQUENCE:3
DTSTAMP:20260424T053149Z
URL:https://business.greaterirmochamber.com/events/details/minnie-s-auto-repair-grand-opening-and-ribbon-cutting-2924
END:VEVENT

END:VCALENDAR
