BEGIN:VCALENDAR
VERSION:2.0
PRODID:-//ChamberMaster//Event Calendar 2.0//EN
METHOD:PUBLISH
X-PUBLISHED-TTL:P3D
REFRESH-INTERVAL:P3D
CALSCALE:GREGORIAN
BEGIN:VEVENT
DTSTART:20180218T003000Z
DTEND:20180218T023000Z
X-MICROSOFT-CDO-ALLDAYEVENT:FALSE
SUMMARY:Misery is Optional - Recollections of Recovery
DESCRIPTION:This world premiere theatrical piece travels the path from addiction to recovery based on interviews with people who have found freedom from alcoholism and addiction. Their inspiring\, sometimes harrowing stories shine a light on a disease that affects 23 million Americans   and on the hope and travails of ongoing recovery.
X-ALT-DESC;FMTTYPE=text/html:This world premiere theatrical piece travels the path from addiction to recovery based on interviews with people who have found freedom from alcoholism and addiction. Their inspiring\, sometimes harrowing stories shine a light on a disease that affects 23 million Americans &ndash\; and on the hope and travails of ongoing recovery.
LOCATION:Harbison Theatre at Midlands Technical College 7300 College Street\, Irmo\, SC 29063
UID:e.1333.2788
SEQUENCE:3
DTSTAMP:20260424T003959Z
URL:https://business.greaterirmochamber.com/events/details/misery-is-optional-recollections-of-recovery-2788
END:VEVENT

END:VCALENDAR
