BEGIN:VCALENDAR
VERSION:2.0
PRODID:-//ChamberMaster//Event Calendar 2.0//EN
METHOD:PUBLISH
X-PUBLISHED-TTL:P3D
REFRESH-INTERVAL:P3D
CALSCALE:GREGORIAN
BEGIN:VEVENT
DTSTART:20170815T180000Z
DTEND:20170815T190000Z
X-MICROSOFT-CDO-ALLDAYEVENT:FALSE
SUMMARY:Monthly Tax Talk
DESCRIPTION:Being a part of a Multi-Level Marketing company is great! Incorrectly filing your taxes? Not so much. Your local Liberty Tax team is here with tons of information! We are offering FREE Tax Talks for you and your network to discuss tax topics that affect you. Our next meeting will be on August 15\, 2017 at 2:00pm. Call and reserve you seat today.
X-ALT-DESC;FMTTYPE=text/html:Being a part of a Multi-Level Marketing company is great! Incorrectly filing your taxes? Not so much. Your local Liberty Tax team is here with tons of information! We are offering FREE Tax Talks for you and your network to discuss tax topics that affect you. Our next meeting will be on August 15\, 2017 at 2:00pm. Call and reserve you seat today.
LOCATION:Liberty Tax Service 7241 Broad River Rd Irmo\, Sc 29063
UID:e.1333.2826
SEQUENCE:3
DTSTAMP:20260424T112003Z
URL:https://business.greaterirmochamber.com/events/details/monthly-tax-talk-2826
END:VEVENT

END:VCALENDAR
