BEGIN:VCALENDAR
VERSION:2.0
PRODID:-//ChamberMaster//Event Calendar 2.0//EN
METHOD:PUBLISH
X-PUBLISHED-TTL:P3D
REFRESH-INTERVAL:P3D
CALSCALE:GREGORIAN
BEGIN:VEVENT
DTSTART:20200721T210000Z
DTEND:20200721T220000Z
X-MICROSOFT-CDO-ALLDAYEVENT:FALSE
SUMMARY:MTC Live: Student Edition
DESCRIPTION:Midlands Technical College is hosting an MTC Live: Student Edition on Tuesday\, July 21 at 5 PM. It's for students\, from students. Hear about navigating COVID-19 changes and how to utilize the support MTC has implemented. We will keep it real and listen to what students experienced during the pandemic shift in Spring and Summer 2020\, and we will use that feedback as we prepare for Fall. This special edition of MTC Live is for new\, current\, and potential students. Join us for advice\, tips\, and tools for classes on-campus\, online\, or both. Our host Drew Newton will lead an honest discussion with MTC students and take questions via live chat.
X-ALT-DESC;FMTTYPE=text/html:Midlands Technical College is hosting an MTC Live: Student Edition on Tuesday\, July 21 at 5 PM. It&#39\;s for students\, from students. Hear about navigating COVID-19 changes and how to utilize the support MTC has implemented. We will keep it real and listen to what students experienced during the pandemic shift in Spring and Summer 2020\, and we will use that feedback as we prepare for Fall. This special edition of MTC Live is for new\, current\, and potential students. Join us for advice\, tips\, and tools for classes on-campus\, online\, or both. Our host Drew Newton will lead an honest discussion with MTC students and take questions via live chat.
LOCATION:MTC Facebook Live
UID:e.1333.3947
SEQUENCE:3
DTSTAMP:20260422T030839Z
URL:https://business.greaterirmochamber.com/events/details/mtc-live-student-edition-3947
END:VEVENT

END:VCALENDAR
