BEGIN:VCALENDAR
VERSION:2.0
PRODID:-//ChamberMaster//Event Calendar 2.0//EN
METHOD:PUBLISH
X-PUBLISHED-TTL:P3D
REFRESH-INTERVAL:P3D
CALSCALE:GREGORIAN
BEGIN:VEVENT
DTSTART:20200328T130000Z
DTEND:20200328T153000Z
X-MICROSOFT-CDO-ALLDAYEVENT:FALSE
SUMMARY:MTC Quick Start Day
DESCRIPTION:Register to attend Quick-Start Day\, and receive the help you need to become an MTC student. All prospective students will learn about MTC's programs\, see what financial aid options are available\, and apply for free to the college. Learn more and register at https://www.midlandstech.edu/mtc-quick-start
X-ALT-DESC;FMTTYPE=text/html:Register to attend Quick-Start Day\, and receive the help you need to become an MTC student. All prospective students will learn about MTC&rsquo\;s programs\, see what financial aid options are available\, and apply for free to the college. Learn more and register at https://www.midlandstech.edu/mtc-quick-start
LOCATION:MTC Airport Campus
UID:e.1333.3685
SEQUENCE:3
DTSTAMP:20260422T113004Z
URL:https://business.greaterirmochamber.com/events/details/mtc-quick-start-day-3685
END:VEVENT

END:VCALENDAR
