BEGIN:VCALENDAR
VERSION:2.0
PRODID:-//ChamberMaster//Event Calendar 2.0//EN
METHOD:PUBLISH
X-PUBLISHED-TTL:P3D
REFRESH-INTERVAL:P3D
CALSCALE:GREGORIAN
BEGIN:VEVENT
DTSTART:20200321T233000Z
DTEND:20200322T013000Z
X-MICROSOFT-CDO-ALLDAYEVENT:FALSE
SUMMARY:MTC Showoff
DESCRIPTION:Back for a second year\, MTC students\, faculty\, staff\, and alumni are invited to compete for this annual title. Produced by Columbia-genius Larry Hembree\, the grand prize winner earns $1\,000\, second place gets $500\, and all final contestants will perform on stage. Join celebrity judges in a packed house!
X-ALT-DESC;FMTTYPE=text/html:Back for a second year\, MTC students\, faculty\, staff\, and alumni are invited to compete for this annual title. Produced by Columbia-genius Larry Hembree\, the grand prize winner earns $1\,000\, second place gets $500\, and all final contestants will perform on stage. Join celebrity judges in a packed house!
LOCATION:Harbison Theatre at Midlands Technical College
UID:e.1333.3411
SEQUENCE:3
DTSTAMP:20260422T113105Z
URL:https://business.greaterirmochamber.com/events/details/mtc-showoff-3411
END:VEVENT

END:VCALENDAR
