BEGIN:VCALENDAR
VERSION:2.0
PRODID:-//ChamberMaster//Event Calendar 2.0//EN
METHOD:PUBLISH
X-PUBLISHED-TTL:P3D
REFRESH-INTERVAL:P3D
CALSCALE:GREGORIAN
BEGIN:VEVENT
DTSTART:20190330T160000Z
DTEND:20190330T160000Z
X-MICROSOFT-CDO-ALLDAYEVENT:FALSE
SUMMARY:MTC Showoff Talent Showcase
DESCRIPTION:Featuring the Columbia legend Larry Hembree\, join a team of judges and contestants from the MTC family as performers vie to become the "MTC Showoff!"
X-ALT-DESC;FMTTYPE=text/html:Featuring the Columbia legend Larry Hembree\, join a team of judges and contestants from the MTC family as performers vie to become the &ldquo\;MTC Showoff!&rdquo\;
LOCATION:Harbison Theatre at Midlands Technical College 7300 College Street Irmo\, SC 29063
UID:e.1333.3242
SEQUENCE:3
DTSTAMP:20260423T035255Z
URL:https://business.greaterirmochamber.com/events/details/mtc-showoff-talent-showcase-3242
END:VEVENT

END:VCALENDAR
