BEGIN:VCALENDAR
VERSION:2.0
PRODID:-//ChamberMaster//Event Calendar 2.0//EN
METHOD:PUBLISH
X-PUBLISHED-TTL:P3D
REFRESH-INTERVAL:P3D
CALSCALE:GREGORIAN
BEGIN:VEVENT
DTSTART:20200729T160000Z
DTEND:20200729T160000Z
X-MICROSOFT-CDO-ALLDAYEVENT:FALSE
SUMMARY:MTC: Virtual Class Demos
DESCRIPTION:Midlands Technical College is hosting free demonstrations to show students and potential students how learning will look this fall. These mini class demos will be live and are scheduled for Wednesday\, July 29 and Thursday\, July 30. Each half-hour session will feature 20 minutes of instruction and 10 minutes of Question and Answers.
X-ALT-DESC;FMTTYPE=text/html:Midlands Technical College is hosting free demonstrations to show students and potential students how learning will look this fall. These mini class demos will be live and are scheduled for Wednesday\, July 29 and Thursday\, July 30. Each half-hour session will feature 20 minutes of instruction and 10 minutes of Question and Answers.
LOCATION:Midlands Technical College (Virtual)
UID:e.1333.3950
SEQUENCE:3
DTSTAMP:20260422T030757Z
URL:https://business.greaterirmochamber.com/events/details/mtc-virtual-class-demos-3950
END:VEVENT

END:VCALENDAR
