BEGIN:VCALENDAR
VERSION:2.0
PRODID:-//ChamberMaster//Event Calendar 2.0//EN
METHOD:PUBLISH
X-PUBLISHED-TTL:P3D
REFRESH-INTERVAL:P3D
CALSCALE:GREGORIAN
BEGIN:VEVENT
DTSTART:20190209T170000Z
DTEND:20190209T170000Z
X-MICROSOFT-CDO-ALLDAYEVENT:FALSE
SUMMARY:My Best Friend's Wedding : Valentine's Cinema
DESCRIPTION:Join us for the yearly tradition featuring this loved rom-com. Be sure get there before the screening where you can sing your best "I Say A Little Prayer" rendition   and enjoy treats and bubbles with your friends or Valentine!
X-ALT-DESC;FMTTYPE=text/html:Join us for the yearly tradition featuring this loved rom-com. Be sure get there before the screening where you can sing your best &ldquo\;I Say A Little Prayer&rdquo\; rendition &ndash\; and enjoy treats and bubbles with your friends or Valentine!
LOCATION:Harbison Theatre at Midlands Technical College 7300 College Street Irmo\, SC 29063
UID:e.1333.3238
SEQUENCE:3
DTSTAMP:20260423T071607Z
URL:https://business.greaterirmochamber.com/events/details/my-best-friend-s-wedding-valentine-s-cinema-3238
END:VEVENT

END:VCALENDAR
