BEGIN:VCALENDAR
VERSION:2.0
PRODID:-//ChamberMaster//Event Calendar 2.0//EN
METHOD:PUBLISH
X-PUBLISHED-TTL:P3D
REFRESH-INTERVAL:P3D
CALSCALE:GREGORIAN
BEGIN:VEVENT
DTSTART:20200310T233000Z
DTEND:20200311T013000Z
X-MICROSOFT-CDO-ALLDAYEVENT:FALSE
SUMMARY:National Theatre Live ON SCREEN – All My Sons
DESCRIPTION:Taking place in America during 1947\, this rendition of Arthur Miller's blistering drama stars Academy Award-winner Sally Field (Steel Magnolias\, Brothers & Sisters) and Bill Pullman (The Sinner\, Independence Day) as Kate and Joe Keller who are a success story. They built a home\, raised two sons\, and established a thriving business\, but nothing lasts forever. Their contented lives\, already shadowed by the loss of their oldest son to war\, are about to shatter. With the return of a figure from the past\, long buried truths are forced to the surface\, and the price of their American dream is laid bare. Each National Theatre Live (NTL) production is performed in front of a live audience in London\, recorded with multiple cameras throughout the auditorium\, and then screened in theaters across the globe   giving viewers "the best seat in the house."
X-ALT-DESC;FMTTYPE=text/html:Taking place in America during 1947\, this rendition of Arthur Miller&rsquo\;s blistering drama stars Academy Award-winner Sally Field (Steel Magnolias\, Brothers &amp\; Sisters) and Bill Pullman (The Sinner\, Independence Day) as Kate and Joe Keller who are a success story. They built a home\, raised two sons\, and established a thriving business\, but nothing lasts forever. Their contented lives\, already shadowed by the loss of their oldest son to war\, are about to shatter. With the return of a figure from the past\, long buried truths are forced to the surface\, and the price of their American dream is laid bare. Each National Theatre Live (NTL) production is performed in front of a live audience in London\, recorded with multiple cameras throughout the auditorium\, and then screened in theaters across the globe &ndash\; giving viewers &ldquo\;the best seat in the house.&rdquo\;
LOCATION:Harbison Theatre at Midlands Technical College
UID:e.1333.3409
SEQUENCE:3
DTSTAMP:20260422T100410Z
URL:https://business.greaterirmochamber.com/events/details/national-theatre-live-on-screen-all-my-sons-3409
END:VEVENT

END:VCALENDAR
